BEGIN:VCALENDAR
VERSION:2.0
PRODID:-//Roc City Rotary - ECPv6.15.20//NONSGML v1.0//EN
CALSCALE:GREGORIAN
METHOD:PUBLISH
X-WR-CALNAME:Roc City Rotary
X-ORIGINAL-URL:https://www.roccityrotary.org
X-WR-CALDESC:Events for Roc City Rotary
REFRESH-INTERVAL;VALUE=DURATION:PT1H
X-Robots-Tag:noindex
X-PUBLISHED-TTL:PT1H
BEGIN:VTIMEZONE
TZID:UTC
BEGIN:STANDARD
TZOFFSETFROM:+0000
TZOFFSETTO:+0000
TZNAME:UTC
DTSTART:20240101T000000
END:STANDARD
END:VTIMEZONE
BEGIN:VEVENT
DTSTART;TZID=UTC:20250528T180000
DTEND;TZID=UTC:20250528T200000
DTSTAMP:20260426T022145
CREATED:20250514T205449Z
LAST-MODIFIED:20250514T205449Z
UID:815-1748455200-1748462400@www.roccityrotary.org
SUMMARY:Flower City Pickers - May 2025
DESCRIPTION:📅 Date: May 28\, 2025\n🕥 Time: 6:00 pm – 8:00 pm\n📍 Location: Public Market (280 Union St N\, Rochester\, NY 14609) \nWe’re rolling up our sleeves and getting things sparkling clean! Join Roc City Rotary and Flower City Pickers for a hands-on volunteer day as we: \n\nDeep clean the work area\nMove and wash down all the tables\nScrub the floors\nTidy up and reorganize our space\nCollect debris that’s piled up over the winter\nPossibly install window grates to boost security\n\nWe’ll be making a tangible impact! Register today! \nRegister here
URL:https://www.roccityrotary.org/event/flower-city-pickers-may-2025/
ATTACH;FMTTYPE=image/png:https://www.roccityrotary.org/wp-content/uploads/2024/09/Flower-City-Pickers.png
END:VEVENT
END:VCALENDAR