BEGIN:VCALENDAR
VERSION:2.0
PRODID:-//Roc City Rotary - ECPv6.15.20//NONSGML v1.0//EN
CALSCALE:GREGORIAN
METHOD:PUBLISH
X-ORIGINAL-URL:https://www.roccityrotary.org
X-WR-CALDESC:Events for Roc City Rotary
REFRESH-INTERVAL;VALUE=DURATION:PT1H
X-Robots-Tag:noindex
X-PUBLISHED-TTL:PT1H
BEGIN:VTIMEZONE
TZID:UTC
BEGIN:STANDARD
TZOFFSETFROM:+0000
TZOFFSETTO:+0000
TZNAME:UTC
DTSTART:20240101T000000
END:STANDARD
END:VTIMEZONE
BEGIN:VEVENT
DTSTART;TZID=UTC:20250719T100000
DTEND;TZID=UTC:20250719T130000
DTSTAMP:20260426T004639
CREATED:20250619T205031Z
LAST-MODIFIED:20250619T205058Z
UID:820-1752919200-1752930000@www.roccityrotary.org
SUMMARY:Rochester Pride Parade - July 2025
DESCRIPTION:📅 Date: July 19\, 2025\n🕥 Time: 10:00 am – 1:00 pm\n📍 Location: Line up at the intersection of South Avenue and Science Parkway \nRoc City Rotary is excited to walk with District 7120 in the 2025 Rochester Pride Parade! 🌈💙 Join us as we celebrate love\, diversity\, and inclusion alongside our vibrant community. We’re proud to stand with the LGBTQ+ community and show our support for equality and acceptance for all. Whether you’re a member\, friend\, or ally—come walk with us and help spread the message of pride\, unity\, and service! \nParade line up is on the corner of South Ave and Science Parkway at 10 am. Additional details will be shared with members who register here! \nRegister here
URL:https://www.roccityrotary.org/event/rochester-pride-parade-july-2025/
ATTACH;FMTTYPE=image/png:https://www.roccityrotary.org/wp-content/uploads/2024/06/pride-parade.png
END:VEVENT
END:VCALENDAR