BEGIN:VCALENDAR
VERSION:2.0
PRODID:-//Roc City Rotary - ECPv6.15.20//NONSGML v1.0//EN
CALSCALE:GREGORIAN
METHOD:PUBLISH
X-ORIGINAL-URL:https://www.roccityrotary.org
X-WR-CALDESC:Events for Roc City Rotary
REFRESH-INTERVAL;VALUE=DURATION:PT1H
X-Robots-Tag:noindex
X-PUBLISHED-TTL:PT1H
BEGIN:VTIMEZONE
TZID:UTC
BEGIN:STANDARD
TZOFFSETFROM:+0000
TZOFFSETTO:+0000
TZNAME:UTC
DTSTART:20240101T000000
END:STANDARD
END:VTIMEZONE
BEGIN:VEVENT
DTSTART;TZID=UTC:20250726T140000
DTEND;TZID=UTC:20250726T160000
DTSTAMP:20260426T004637
CREATED:20250619T204359Z
LAST-MODIFIED:20250715T175924Z
UID:818-1753538400-1753545600@www.roccityrotary.org
SUMMARY:Flower City Pickers - July 2025
DESCRIPTION:📅 Date: July 26\, 2025\n🕥 Time: 2:00 pm – 4:00 pm\n📍 Location: Public Market (280 Union St N) \nJoin us for an afternoon of community service with Flower City Pickers! We’ll be sorting produce\, loading trucks\, and helping with cleanup to ensure surplus food is distributed to those in need. This is a hands-on opportunity to make a tangible difference in our community. Your time and effort will go a long way in supporting local food security initiatives. Sign up today and be part of the change! 🌱 \nRegister here
URL:https://www.roccityrotary.org/event/flower-city-pickers-july-2025/
ATTACH;FMTTYPE=image/png:https://www.roccityrotary.org/wp-content/uploads/2024/09/Flower-City-Pickers.png
END:VEVENT
END:VCALENDAR