BEGIN:VCALENDAR
VERSION:2.0
PRODID:-//Roc City Rotary - ECPv6.15.20//NONSGML v1.0//EN
CALSCALE:GREGORIAN
METHOD:PUBLISH
X-ORIGINAL-URL:https://www.roccityrotary.org
X-WR-CALDESC:Events for Roc City Rotary
REFRESH-INTERVAL;VALUE=DURATION:PT1H
X-Robots-Tag:noindex
X-PUBLISHED-TTL:PT1H
BEGIN:VTIMEZONE
TZID:UTC
BEGIN:STANDARD
TZOFFSETFROM:+0000
TZOFFSETTO:+0000
TZNAME:UTC
DTSTART:20240101T000000
END:STANDARD
END:VTIMEZONE
BEGIN:VEVENT
DTSTART;TZID=UTC:20250821T180000
DTEND;TZID=UTC:20250821T193000
DTSTAMP:20260425T231527
CREATED:20250812T112947Z
LAST-MODIFIED:20250812T112947Z
UID:892-1755799200-1755804600@www.roccityrotary.org
SUMMARY:Lifespan - Backpack Filling
DESCRIPTION:📅 Date: August 21\, 2025\n🕥 Time: 6:00 pm – 7:30 pm\n📍 Location: Lifespan Office (1900 South Clinton Avenue Rochester\, NY 14618) \nHelp Lifespan fill approximately backpacks for its Relatives Raising Children program. There are about 50-60 kids for whom Lifespan provides back to school supplies and backpacks. These are mostly grandparents raising grandchildren with an occasional aunt raising the kids. In every case\, the parents of these kids are either incarcerated\, struggling with addiction and unable to raise them\, or they’ve died. \nRegister here
URL:https://www.roccityrotary.org/event/lifespan-backpack-filling/
ATTACH;FMTTYPE=image/png:https://www.roccityrotary.org/wp-content/uploads/2025/08/August-Service.png
END:VEVENT
END:VCALENDAR