BEGIN:VCALENDAR
VERSION:2.0
PRODID:-//Roc City Rotary - ECPv6.15.20//NONSGML v1.0//EN
CALSCALE:GREGORIAN
METHOD:PUBLISH
X-WR-CALNAME:Roc City Rotary
X-ORIGINAL-URL:https://www.roccityrotary.org
X-WR-CALDESC:Events for Roc City Rotary
REFRESH-INTERVAL;VALUE=DURATION:PT1H
X-Robots-Tag:noindex
X-PUBLISHED-TTL:PT1H
BEGIN:VTIMEZONE
TZID:UTC
BEGIN:STANDARD
TZOFFSETFROM:+0000
TZOFFSETTO:+0000
TZNAME:UTC
DTSTART:20240101T000000
END:STANDARD
END:VTIMEZONE
BEGIN:VEVENT
DTSTART;TZID=UTC:20250827T180000
DTEND;TZID=UTC:20250827T200000
DTSTAMP:20260425T231530
CREATED:20250809T000625Z
LAST-MODIFIED:20250809T000625Z
UID:885-1756317600-1756324800@www.roccityrotary.org
SUMMARY:Blueberry Picking
DESCRIPTION:📅 Date: August 27\, 2025\n🕥 Time: 6:00 pm – 8:00 pm\n📍 Location: Blue Barn Cidery (928 Manitou Rd\, Hilton\, NY 14468) \nCome join your fellow Roc City Rotary Members for Blueberry and Plum picking! \nRegister here
URL:https://www.roccityrotary.org/event/blueberry-picking/
ATTACH;FMTTYPE=image/png:https://www.roccityrotary.org/wp-content/uploads/2025/08/image.png
END:VEVENT
END:VCALENDAR