BEGIN:VCALENDAR
VERSION:2.0
PRODID:-//Roc City Rotary - ECPv6.15.20//NONSGML v1.0//EN
CALSCALE:GREGORIAN
METHOD:PUBLISH
X-WR-CALNAME:Roc City Rotary
X-ORIGINAL-URL:https://www.roccityrotary.org
X-WR-CALDESC:Events for Roc City Rotary
REFRESH-INTERVAL;VALUE=DURATION:PT1H
X-Robots-Tag:noindex
X-PUBLISHED-TTL:PT1H
BEGIN:VTIMEZONE
TZID:UTC
BEGIN:STANDARD
TZOFFSETFROM:+0000
TZOFFSETTO:+0000
TZNAME:UTC
DTSTART:20240101T000000
END:STANDARD
END:VTIMEZONE
BEGIN:VEVENT
DTSTART;TZID=UTC:20251024T183000
DTEND;TZID=UTC:20251024T220000
DTSTAMP:20260425T201302
CREATED:20251007T010323Z
LAST-MODIFIED:20251007T010354Z
UID:904-1761330600-1761343200@www.roccityrotary.org
SUMMARY:Moonlight Corn Maze
DESCRIPTION:📅 Date: October 24\, 2025\n🕥 Time: 6:30 pm – 10:00 pm\n📍 Location: Long Acre Farms (1342 Eddy Road Macedon\, NY 14502) \n\n\n\n\n\n\nJoin us for another thrilling adventure through the Moonlight Corn Maze! Bring your friends and family for a fun-filled evening navigating the twists and turns of this year’s maze under the stars. Whether you’re up for a challenge or just want to enjoy a crisp fall evening\, this event is perfect for all ages. Don’t forget to bring a flashlight and your sense of adventure! \nNote: Signing up here just tells Roc City Rotary you’re coming; you need to buy your individual ticket on the long acre website to actually get in! Be sure to select the 7:00pm time slot! \nGrab your tickets now and get ready for a night of fall fun at Long Acre Farm! 🍁 \nRegister with us here (which is separate from buying your ticket)
URL:https://www.roccityrotary.org/event/moonlight-corn-maze-3/
ATTACH;FMTTYPE=image/png:https://www.roccityrotary.org/wp-content/uploads/2024/09/corn-maze.png
END:VEVENT
END:VCALENDAR