BEGIN:VCALENDAR
VERSION:2.0
PRODID:-//Roc City Rotary - ECPv6.15.20//NONSGML v1.0//EN
CALSCALE:GREGORIAN
METHOD:PUBLISH
X-WR-CALNAME:Roc City Rotary
X-ORIGINAL-URL:https://www.roccityrotary.org
X-WR-CALDESC:Events for Roc City Rotary
REFRESH-INTERVAL;VALUE=DURATION:PT1H
X-Robots-Tag:noindex
X-PUBLISHED-TTL:PT1H
BEGIN:VTIMEZONE
TZID:UTC
BEGIN:STANDARD
TZOFFSETFROM:+0000
TZOFFSETTO:+0000
TZNAME:UTC
DTSTART:20240101T000000
END:STANDARD
END:VTIMEZONE
BEGIN:VEVENT
DTSTART;TZID=UTC:20251206T123000
DTEND;TZID=UTC:20251206T143000
DTSTAMP:20260425T172654
CREATED:20251116T141451Z
LAST-MODIFIED:20251116T141515Z
UID:919-1765024200-1765031400@www.roccityrotary.org
SUMMARY:Roc Holiday Village
DESCRIPTION:📅 Date: December 6\, 2025\n🕥 Time: 12:30 pm – 2:30 pm\n📍 Location: Martin Luther King Park (353 Court St\, Rochester\, NY 14607) \nDescription: Join Roc City Rotary at the Roc Holiday Village! Located at Dr. Martin Luther King Jr. Memorial Park at Manhattan Square\, Roc Holiday Village creates a joyful space for the entire Rochester community and is the quintessential December destination. It’s an enchanting\, delightful\, magical must-do experience. \nAdditional Details: this event will take place after the service event at Isaiah House. \nRegister here
URL:https://www.roccityrotary.org/event/roc-holiday-village/
ATTACH;FMTTYPE=image/png:https://www.roccityrotary.org/wp-content/uploads/2025/11/December-social.png
END:VEVENT
END:VCALENDAR