BEGIN:VCALENDAR
VERSION:2.0
PRODID:-//Roc City Rotary - ECPv6.15.20//NONSGML v1.0//EN
CALSCALE:GREGORIAN
METHOD:PUBLISH
X-WR-CALNAME:Roc City Rotary
X-ORIGINAL-URL:https://www.roccityrotary.org
X-WR-CALDESC:Events for Roc City Rotary
REFRESH-INTERVAL;VALUE=DURATION:PT1H
X-Robots-Tag:noindex
X-PUBLISHED-TTL:PT1H
BEGIN:VTIMEZONE
TZID:UTC
BEGIN:STANDARD
TZOFFSETFROM:+0000
TZOFFSETTO:+0000
TZNAME:UTC
DTSTART:20240101T000000
END:STANDARD
END:VTIMEZONE
BEGIN:VEVENT
DTSTART;TZID=UTC:20251211T180000
DTEND;TZID=UTC:20251211T200000
DTSTAMP:20260425T172700
CREATED:20251113T171157Z
LAST-MODIFIED:20251209T190042Z
UID:916-1765476000-1765483200@www.roccityrotary.org
SUMMARY:UPDATED - Isaiah House Christmas Decorating
DESCRIPTION:📅 Date: December 11\, 2025\n🕥 Time: 6:00pm – 8:00pm\n📍 Location: Isaiah House (1005 East Avenue\, Rochester\, NY) \nWe will return to the Isaiah House for the second year to decorate it for Christmas. The Isaiah House offers compassionate care for the dying. While neither hastening or preventing death\, the Isaiah House helps its residents live their last days in comfort and love. The Isaiah House offers residence to people with irreversible illnesses who have been determined to be within the last three months of their lives. \nContact us to register (no Eventbrite) roccityrotaryinfo@gmail.com
URL:https://www.roccityrotary.org/event/isaiah-house-christmas-decorating-2/
ATTACH;FMTTYPE=image/png:https://www.roccityrotary.org/wp-content/uploads/2024/09/Isaiah-House.png
END:VEVENT
END:VCALENDAR