BEGIN:VCALENDAR
VERSION:2.0
PRODID:-//Roc City Rotary - ECPv6.15.20//NONSGML v1.0//EN
CALSCALE:GREGORIAN
METHOD:PUBLISH
X-ORIGINAL-URL:https://www.roccityrotary.org
X-WR-CALDESC:Events for Roc City Rotary
REFRESH-INTERVAL;VALUE=DURATION:PT1H
X-Robots-Tag:noindex
X-PUBLISHED-TTL:PT1H
BEGIN:VTIMEZONE
TZID:UTC
BEGIN:STANDARD
TZOFFSETFROM:+0000
TZOFFSETTO:+0000
TZNAME:UTC
DTSTART:20250101T000000
END:STANDARD
END:VTIMEZONE
BEGIN:VEVENT
DTSTART;TZID=UTC:20260221T090000
DTEND;TZID=UTC:20260221T140000
DTSTAMP:20260425T144221
CREATED:20251216T175017Z
LAST-MODIFIED:20251216T175017Z
UID:957-1771664400-1771682400@www.roccityrotary.org
SUMMARY:Gilda's Club Community Chef Event
DESCRIPTION:📅 Date: February 21\, 2026\n🕥 Time: 9:00 am – 2:00 pm\n📍 Location: Gilda’s Club (255 Alexander Street) \nWe will be preparing and hosting lunch for members of the Gilda’s Club Cancer Support Community. The ingredients need to be brought in and prepared onsite\, so we need to get there early to start cooking to serve lunch from 12:30-2pm. \nRegister here
URL:https://www.roccityrotary.org/event/gildas-club-community-chef-event/
ATTACH;FMTTYPE=image/png:https://www.roccityrotary.org/wp-content/uploads/2025/12/feb-service.png
END:VEVENT
END:VCALENDAR