BEGIN:VCALENDAR
VERSION:2.0
PRODID:-//Roc City Rotary - ECPv6.15.20//NONSGML v1.0//EN
CALSCALE:GREGORIAN
METHOD:PUBLISH
X-WR-CALNAME:Roc City Rotary
X-ORIGINAL-URL:https://www.roccityrotary.org
X-WR-CALDESC:Events for Roc City Rotary
REFRESH-INTERVAL;VALUE=DURATION:PT1H
X-Robots-Tag:noindex
X-PUBLISHED-TTL:PT1H
BEGIN:VTIMEZONE
TZID:UTC
BEGIN:STANDARD
TZOFFSETFROM:+0000
TZOFFSETTO:+0000
TZNAME:UTC
DTSTART:20250101T000000
END:STANDARD
END:VTIMEZONE
BEGIN:VEVENT
DTSTART;TZID=UTC:20260311T180000
DTEND;TZID=UTC:20260311T200000
DTSTAMP:20260425T132028
CREATED:20260120T155956Z
LAST-MODIFIED:20260120T155956Z
UID:970-1773252000-1773259200@www.roccityrotary.org
SUMMARY:Dave & Busters
DESCRIPTION:📅 Date: March 11\, 2026\n🕥 Time: 6:00 pm – 8:00 pm\n📍 Location: Dave & Busters (15 Miracle Mile Dr\, Rochester\, NY 14623) \nGet ready to have a blast with Roc City Rotary at Dave & Busters – games\, food\, and good company await! \nRegister here
URL:https://www.roccityrotary.org/event/dave-busters/
ATTACH;FMTTYPE=image/png:https://www.roccityrotary.org/wp-content/uploads/2026/01/march-social.png
END:VEVENT
BEGIN:VEVENT
DTSTART;TZID=UTC:20260317T180000
DTEND;TZID=UTC:20260317T193000
DTSTAMP:20260425T132028
CREATED:20250724T142316Z
LAST-MODIFIED:20250724T142316Z
UID:847-1773770400-1773775800@www.roccityrotary.org
SUMMARY:March 2026 Club Meeting
DESCRIPTION:📅 Date: March 17 2025\n🕥 Time: 6:00 pm – 7:30 pm\n📍 Location: Three Heads Brewing (186 Atlantic Ave\, Rochester\, NY 14607) \nJoin Roc City Rotary for our monthly club meeting at Three Heads Brewing in Downtown Rochester. Join us every third Tuesday of the month for some Good old-fashioned bonding! (Icebreaker anyone?) Great programs and speakers! (Suggestions welcome!) Events scoop! (Volunteering\, Socials\, we cover it all!) Why we love Rochester! (We really do!) \nHappy Half Hour: 6:00pm\, meeting to follow. \nRegister here
URL:https://www.roccityrotary.org/event/march-2026-club-meeting/
ATTACH;FMTTYPE=image/png:https://www.roccityrotary.org/wp-content/uploads/2024/09/Meeting-Invite.png
END:VEVENT
BEGIN:VEVENT
DTSTART;TZID=UTC:20260328T133000
DTEND;TZID=UTC:20260328T153000
DTSTAMP:20260425T132028
CREATED:20260120T155506Z
LAST-MODIFIED:20260120T155506Z
UID:966-1774704600-1774711800@www.roccityrotary.org
SUMMARY:Flower City Pickers
DESCRIPTION:📅 Date: March 28th\, 2026\n🕥 Time: 1:30 pm – 3:30 pm\n📍 Location: Public Market (105 Pennsylvania Ave\, Rochester\, NY 14609) \nJoin Flower City Pickers and Roc City Rotary at the Rochester Public Market for a fun community event filled with good vibes. \nRegister here
URL:https://www.roccityrotary.org/event/flower-city-pickers-2/
ATTACH;FMTTYPE=image/png:https://www.roccityrotary.org/wp-content/uploads/2026/01/march-service.png
END:VEVENT
BEGIN:VEVENT
DTSTART;TZID=UTC:20260414T183000
DTEND;TZID=UTC:20260414T203000
DTSTAMP:20260425T132028
CREATED:20260317T202925Z
LAST-MODIFIED:20260317T202941Z
UID:981-1776191400-1776198600@www.roccityrotary.org
SUMMARY:Genesee Brew House Music Trivia Night
DESCRIPTION:📅 Date: April 14\, 2026\n🕥 Time: 6:30 pm – 8:30 pm\n📍 Location: Genesee Brew House (25 Cataract St\, Rochester\, NY 14605) \n\n\n\nJoin Roc City at the Genesee Brew House for a fun night of music trivia. Prizes given out every round! \n\n\n\nRegister here
URL:https://www.roccityrotary.org/event/981/
ATTACH;FMTTYPE=image/png:https://www.roccityrotary.org/wp-content/uploads/2026/03/april-social.png
END:VEVENT
BEGIN:VEVENT
DTSTART;TZID=UTC:20260421T180000
DTEND;TZID=UTC:20260421T193000
DTSTAMP:20260425T132028
CREATED:20250724T142408Z
LAST-MODIFIED:20250724T142408Z
UID:849-1776794400-1776799800@www.roccityrotary.org
SUMMARY:April 2026 Club Meeting
DESCRIPTION:📅 Date: April 21 2025\n🕥 Time: 6:00 pm – 7:30 pm\n📍 Location: Three Heads Brewing (186 Atlantic Ave\, Rochester\, NY 14607) \nJoin Roc City Rotary for our monthly club meeting at Three Heads Brewing in Downtown Rochester. Join us every third Tuesday of the month for some Good old-fashioned bonding! (Icebreaker anyone?) Great programs and speakers! (Suggestions welcome!) Events scoop! (Volunteering\, Socials\, we cover it all!) Why we love Rochester! (We really do!) \nHappy Half Hour: 6:00pm\, meeting to follow. \nRegister here
URL:https://www.roccityrotary.org/event/april-2026-club-meeting/
ATTACH;FMTTYPE=image/png:https://www.roccityrotary.org/wp-content/uploads/2024/09/Meeting-Invite.png
END:VEVENT
BEGIN:VEVENT
DTSTART;TZID=UTC:20260422T180000
DTEND;TZID=UTC:20260422T190000
DTSTAMP:20260425T132028
CREATED:20260317T181416Z
LAST-MODIFIED:20260419T092127Z
UID:976-1776880800-1776884400@www.roccityrotary.org
SUMMARY:Earth Day Pick Up at Ontario Beach Park
DESCRIPTION:📅 Date: April 22\, 2026\n🕥 Time: 6:00 pm – 7:00 pm\n📍 Location: Ontario Beach Park \nThis is an Earth Day tobacco litter pickup sponsored by the Smoking and Health Action Coalition of Livingston and Monroe Counties\, part of the American Lung Association. Their team will have gloves\, bags and buckets for anyone who does care to join. \nRegister here
URL:https://www.roccityrotary.org/event/earth-day-pick-up-at-ontario-beach-park/
ATTACH;FMTTYPE=image/png:https://www.roccityrotary.org/wp-content/uploads/2026/03/Earth-Day-2026-Flyer.png
END:VEVENT
BEGIN:VEVENT
DTSTART;TZID=UTC:20260502T110000
DTEND;TZID=UTC:20260502T140000
DTSTAMP:20260425T132028
CREATED:20260317T182040Z
LAST-MODIFIED:20260317T182040Z
UID:979-1777719600-1777730400@www.roccityrotary.org
SUMMARY:Isaiah House Shed Installation/Landscaping Assistance
DESCRIPTION:📅 Date: May 2\, 2026\n🕥 Time: 11:00 am – 2:00 pm\n📍 Location: Isaiah House (186 Atlantic Ave\, Rochester\, NY 14607) \n\n\n\nWe will be assisting Isaiah House with installing its shed and/or performing landscaping or beautification work on the grounds. \n\n\n\nRegister here
URL:https://www.roccityrotary.org/event/isaiah-house-shed-installation-landscaping-assistance/
ATTACH;FMTTYPE=image/png:https://www.roccityrotary.org/wp-content/uploads/2025/12/jan-service.png
END:VEVENT
BEGIN:VEVENT
DTSTART;TZID=UTC:20260519T180000
DTEND;TZID=UTC:20260519T193000
DTSTAMP:20260425T132028
CREATED:20250724T142458Z
LAST-MODIFIED:20250724T142458Z
UID:851-1779213600-1779219000@www.roccityrotary.org
SUMMARY:May 2026 Club Meeting
DESCRIPTION:📅 Date: May 19 2025\n🕥 Time: 6:00 pm – 7:30 pm\n📍 Location: Three Heads Brewing (186 Atlantic Ave\, Rochester\, NY 14607) \nJoin Roc City Rotary for our monthly club meeting at Three Heads Brewing in Downtown Rochester. Join us every third Tuesday of the month for some Good old-fashioned bonding! (Icebreaker anyone?) Great programs and speakers! (Suggestions welcome!) Events scoop! (Volunteering\, Socials\, we cover it all!) Why we love Rochester! (We really do!) \nHappy Half Hour: 6:00pm\, meeting to follow. \nRegister here
URL:https://www.roccityrotary.org/event/may-2026-club-meeting/
ATTACH;FMTTYPE=image/png:https://www.roccityrotary.org/wp-content/uploads/2024/09/Meeting-Invite.png
END:VEVENT
BEGIN:VEVENT
DTSTART;TZID=UTC:20260606T120000
DTEND;TZID=UTC:20260606T170000
DTSTAMP:20260425T132028
CREATED:20260402T003434Z
LAST-MODIFIED:20260402T003525Z
UID:985-1780747200-1780765200@www.roccityrotary.org
SUMMARY:2026 Bags and Brews Cornhole Tournament
DESCRIPTION:Register here\nAbout the Event\nThe Roc City Rotary Club is thrilled to host the 2026 Bags and Brews Cornhole Fundraiser at Three Heads Brewery! This exciting event promises a day filled with friendly competition\, delicious brews\, and community spirit. \nEvent Highlights\n\nCornhole Tournament: Test your skills in a fun and competitive double bracket cornhole tournament. There will be prizes for the top teams!\nCraft Beer: A selection of craft beers will be available for purchase from Three Heads Brewery.\nRaffle: Participate in our raffle for a chance to win fantastic prizes.\n\nWhy Attend?\nBesides having a great time\, your participation will support the Roc City Rotary Club in its mission to serve the community. The funds will help us to support various local projects and initiatives\, benefiting those in need. \nRegistration\nOn the registration page\, you will see an option to donate directly to Roc City Rotary. \nOn the payment page there is an optional donation which you can adjust or opt out of.  This is a payment that goes directly to Zeffy to allow them to keep this software free for non-profits like Roc City Rotary. \nRegister here
URL:https://www.roccityrotary.org/event/2026-bags-and-brews-cornhole-tournament/
ATTACH;FMTTYPE=image/gif:https://www.roccityrotary.org/wp-content/uploads/2026/04/Roc-City-Bags-Brews-Flyer-1-scaled.gif
END:VEVENT
BEGIN:VEVENT
DTSTART;TZID=UTC:20260616T180000
DTEND;TZID=UTC:20260616T193000
DTSTAMP:20260425T132028
CREATED:20250724T142541Z
LAST-MODIFIED:20250724T142541Z
UID:853-1781632800-1781638200@www.roccityrotary.org
SUMMARY:June 2026 Club Meeting
DESCRIPTION:📅 Date: June 16 2025\n🕥 Time: 6:00 pm – 7:30 pm\n📍 Location: Three Heads Brewing (186 Atlantic Ave\, Rochester\, NY 14607) \nJoin Roc City Rotary for our monthly club meeting at Three Heads Brewing in Downtown Rochester. Join us every third Tuesday of the month for some Good old-fashioned bonding! (Icebreaker anyone?) Great programs and speakers! (Suggestions welcome!) Events scoop! (Volunteering\, Socials\, we cover it all!) Why we love Rochester! (We really do!) \nHappy Half Hour: 6:00pm\, meeting to follow. \nRegister here
URL:https://www.roccityrotary.org/event/june-2026-club-meeting/
ATTACH;FMTTYPE=image/png:https://www.roccityrotary.org/wp-content/uploads/2024/09/Meeting-Invite.png
END:VEVENT
END:VCALENDAR