BEGIN:VCALENDAR
VERSION:2.0
PRODID:-//Roc City Rotary - ECPv6.15.20//NONSGML v1.0//EN
CALSCALE:GREGORIAN
METHOD:PUBLISH
X-ORIGINAL-URL:https://www.roccityrotary.org
X-WR-CALDESC:Events for Roc City Rotary
REFRESH-INTERVAL;VALUE=DURATION:PT1H
X-Robots-Tag:noindex
X-PUBLISHED-TTL:PT1H
BEGIN:VTIMEZONE
TZID:UTC
BEGIN:STANDARD
TZOFFSETFROM:+0000
TZOFFSETTO:+0000
TZNAME:UTC
DTSTART:20240101T000000
END:STANDARD
END:VTIMEZONE
BEGIN:VEVENT
DTSTART;TZID=UTC:20250406T120000
DTEND;TZID=UTC:20250406T150000
DTSTAMP:20260426T035119
CREATED:20250322T163152Z
LAST-MODIFIED:20250322T184902Z
UID:772-1743940800-1743951600@www.roccityrotary.org
SUMMARY:Polar Bear Plunge
DESCRIPTION:📅 Date: April 6\, 2025 \n🕥 Time: 12:00 pm – 3:00 pm \n📍 Location: Beachcomber (5909 W Lake Rd\, Conesus\, NY 14435) \nThe event will begin at noon with registration and sign-in. Jeff and Gretchen will be taking the plunge\, feel free to join in or support from the sidelines! There will be live music\, food and drinks\, and a Rotary classic\, the 50/50 raffle.The Plunge will take place in rounds\, with individuals and teams grouped by age. The event will conclude with an awards ceremony. Sign up here if you’d like to attend so we can coordinate the Roc City team! \nRegister here
URL:https://www.roccityrotary.org/event/polar-bear-plunge/
ATTACH;FMTTYPE=image/png:https://www.roccityrotary.org/wp-content/uploads/2025/03/polar.png
END:VEVENT
BEGIN:VEVENT
DTSTART;TZID=UTC:20250415T180000
DTEND;TZID=UTC:20250415T193000
DTSTAMP:20260426T035119
CREATED:20240914T192053Z
LAST-MODIFIED:20240914T192053Z
UID:687-1744740000-1744745400@www.roccityrotary.org
SUMMARY:April Club Meeting
DESCRIPTION:📅 Date: April 15\, 2024\n🕥 Time: 6:00 pm – 7:30 pm\n📍 Location: Three Heads Brewing (186 Atlantic Ave\, Rochester\, NY 14607) \nJoin Roc City Rotary for our monthly club meeting at Three Heads Brewing in Downtown Rochester. Join us every third Tuesday of the month for some Good old-fashioned bonding! (Icebreaker anyone?) Great programs and speakers! (Suggestions welcome!) Events scoop! (Volunteering\, Socials\, we cover it all!) Why we love Rochester! (We really do!) \nHappy Half Hour: 6:00pm\, meeting to follow. \nRegister here
URL:https://www.roccityrotary.org/event/april-club-meeting-3/
LOCATION:Three Heads Brewing\, 185 Atlantic Ave\, rochester\, NY\, 14607\, United States
ATTACH;FMTTYPE=image/png:https://www.roccityrotary.org/wp-content/uploads/2024/09/Meeting-Invite.png
END:VEVENT
END:VCALENDAR