BEGIN:VCALENDAR
VERSION:2.0
PRODID:-//Roc City Rotary - ECPv6.15.20//NONSGML v1.0//EN
CALSCALE:GREGORIAN
METHOD:PUBLISH
X-WR-CALNAME:Roc City Rotary
X-ORIGINAL-URL:https://www.roccityrotary.org
X-WR-CALDESC:Events for Roc City Rotary
REFRESH-INTERVAL;VALUE=DURATION:PT1H
X-Robots-Tag:noindex
X-PUBLISHED-TTL:PT1H
BEGIN:VTIMEZONE
TZID:UTC
BEGIN:STANDARD
TZOFFSETFROM:+0000
TZOFFSETTO:+0000
TZNAME:UTC
DTSTART:20240101T000000
END:STANDARD
END:VTIMEZONE
BEGIN:VEVENT
DTSTART;TZID=UTC:20250604T180000
DTEND;TZID=UTC:20250604T193000
DTSTAMP:20260426T004641
CREATED:20250514T204738Z
LAST-MODIFIED:20250514T204738Z
UID:812-1749060000-1749065400@www.roccityrotary.org
SUMMARY:Local History Walking Tour
DESCRIPTION:📅 Date: June 04\, 2025\n🕥 Time: 6:00 pm – 7:30 pm\n📍 Location: Rundel Memorial Building (115 South Avenue Rochester\, NY 14604) \nJoin us for an engaging evening as we explore the heart of Rochester on foot! This guided walking tour will take you through the city’s rich history\, vibrant culture\, and architectural gems. \nRSVP: Please let the tour guide know if you’ll be joining by filling out their registration! \nRegister here
URL:https://www.roccityrotary.org/event/local-history-walking-tour/
ATTACH;FMTTYPE=image/png:https://www.roccityrotary.org/wp-content/uploads/2025/05/may-social.png
END:VEVENT
BEGIN:VEVENT
DTSTART;TZID=UTC:20250617T180000
DTEND;TZID=UTC:20250617T193000
DTSTAMP:20260426T004641
CREATED:20240914T192252Z
LAST-MODIFIED:20240914T192252Z
UID:691-1750183200-1750188600@www.roccityrotary.org
SUMMARY:June Club Meeting
DESCRIPTION:📅 Date: June 17\, 2024\n🕥 Time: 6:00 pm – 7:30 pm\n📍 Location: Three Heads Brewing (186 Atlantic Ave\, Rochester\, NY 14607) \nJoin Roc City Rotary for our monthly club meeting at Three Heads Brewing in Downtown Rochester. Join us every third Tuesday of the month for some Good old-fashioned bonding! (Icebreaker anyone?) Great programs and speakers! (Suggestions welcome!) Events scoop! (Volunteering\, Socials\, we cover it all!) Why we love Rochester! (We really do!) \nHappy Half Hour: 6:00pm\, meeting to follow. \nRegister here
URL:https://www.roccityrotary.org/event/june-club-meeting-3/
LOCATION:Three Heads Brewing\, 185 Atlantic Ave\, rochester\, NY\, 14607\, United States
ATTACH;FMTTYPE=image/png:https://www.roccityrotary.org/wp-content/uploads/2024/09/Meeting-Invite.png
END:VEVENT
BEGIN:VEVENT
DTSTART;TZID=UTC:20250621T130000
DTEND;TZID=UTC:20250621T170000
DTSTAMP:20260426T004641
CREATED:20250421T194034Z
LAST-MODIFIED:20250421T194219Z
UID:784-1750510800-1750525200@www.roccityrotary.org
SUMMARY:2025 Bags and Brews Cornhole Tournament
DESCRIPTION:Register here\nAbout the Event\nThe Roc City Rotary Club is thrilled to host the 2025 Bags and Brews Cornhole Fundraiser at Three Heads Brewery! This exciting event promises a day filled with friendly competition\, delicious brews\, and community spirit. \nEvent Highlights\n\nCornhole Tournament: Test your skills in a fun and competitive single bracket cornhole tournament. There will be prizes for the top teams!\nCraft Beer: A selection of craft beers will be available for purchase from Three Heads Brewery.\nRaffle: Participate in our raffle for a chance to win fantastic prizes.\n\nWhy Attend?\nBesides having a great time\, your participation will support the Roc City Rotary Club in its mission to serve the community. The funds will help us to support various local projects and initiatives\, benefiting those in need. \nRegistration\nOn the registration page\, you will see an option to donate directly to Roc City Rotary. \nOn the payment page there is an optional donation which you can adjust or opt out of.  This is a payment that goes directly to Zeffy to allow them to keep this software free for non-profits like Roc City Rotary. \nRegister here
URL:https://www.roccityrotary.org/event/2025-bags-and-brews-cornhole-tournament/
LOCATION:Three Heads Brewing\, 185 Atlantic Ave\, rochester\, NY\, 14607\, United States
ATTACH;FMTTYPE=image/jpeg:https://www.roccityrotary.org/wp-content/uploads/2025/04/June-21.jpg
END:VEVENT
END:VCALENDAR