BEGIN:VCALENDAR
VERSION:2.0
PRODID:-//Roc City Rotary - ECPv6.15.20//NONSGML v1.0//EN
CALSCALE:GREGORIAN
METHOD:PUBLISH
X-WR-CALNAME:Roc City Rotary
X-ORIGINAL-URL:https://www.roccityrotary.org
X-WR-CALDESC:Events for Roc City Rotary
REFRESH-INTERVAL;VALUE=DURATION:PT1H
X-Robots-Tag:noindex
X-PUBLISHED-TTL:PT1H
BEGIN:VTIMEZONE
TZID:UTC
BEGIN:STANDARD
TZOFFSETFROM:+0000
TZOFFSETTO:+0000
TZNAME:UTC
DTSTART:20240101T000000
END:STANDARD
END:VTIMEZONE
BEGIN:VEVENT
DTSTART;TZID=UTC:20250913T090000
DTEND;TZID=UTC:20250913T140000
DTSTAMP:20260425T201309
CREATED:20250811T190159Z
LAST-MODIFIED:20250811T190159Z
UID:890-1757754000-1757772000@www.roccityrotary.org
SUMMARY:Open Door Mission Painting
DESCRIPTION:📅 Date: September 13\, 2025\n🕥 Time: 9:00am – 2:00pm\n📍 Location: Open Door Mission (156 Plymouth Avenue Rochester\, NY 14614) \nThe first City of Rochester Rotary Clubs UNITE FOR GOOD Service Project. We’ll be assisting with painting Open Door Mission’s facilities that provide services to hundreds of men and women along with other Rotarians from the other downtown clubs! The first 30 volunteers will get a t-shirt! Roc City Rotarians should register on our Eventbrite and through the link on Rochester Rotary’s website and select Saturday\, September 13th – https://www.rochesterrotary.org/event/city-of-rochester-rotary-clubs-volunteer-opportunity/2025-09-13/ \nRegister here
URL:https://www.roccityrotary.org/event/open-door-mission-painting/
ATTACH;FMTTYPE=image/png:https://www.roccityrotary.org/wp-content/uploads/2025/08/September-Service.png
END:VEVENT
BEGIN:VEVENT
DTSTART;TZID=UTC:20250916T180000
DTEND;TZID=UTC:20250916T193000
DTSTAMP:20260425T201309
CREATED:20250724T141745Z
LAST-MODIFIED:20250809T000659Z
UID:835-1758045600-1758051000@www.roccityrotary.org
SUMMARY:September 2025 Club Meeting
DESCRIPTION:📅 Date: September 16\, 2025\n🕥 Time: 6:00 pm – 7:30 pm\n📍 Location: Three Heads Brewing (186 Atlantic Ave\, Rochester\, NY 14607) \nJoin Roc City Rotary for our monthly club meeting at Three Heads Brewing in Downtown Rochester. Join us every third Tuesday of the month for some Good old-fashioned bonding! (Icebreaker anyone?) Great programs and speakers! (Suggestions welcome!) Events scoop! (Volunteering\, Socials\, we cover it all!) Why we love Rochester! (We really do!) \nHappy Half Hour: 6:00pm\, meeting to follow. \nRegister here
URL:https://www.roccityrotary.org/event/september-2025-club-meeting/
ATTACH;FMTTYPE=image/png:https://www.roccityrotary.org/wp-content/uploads/2024/09/Meeting-Invite.png
END:VEVENT
BEGIN:VEVENT
DTSTART;TZID=UTC:20250929T190000
DTEND;TZID=UTC:20250929T203000
DTSTAMP:20260425T201309
CREATED:20250921T171635Z
LAST-MODIFIED:20250921T171903Z
UID:895-1759172400-1759177800@www.roccityrotary.org
SUMMARY:Pub Trivia at Rising Storm Brewing!
DESCRIPTION:📅 Date: September 29\, 2025\n🕥 Time: 7:00 pm – 8:30 pm\n📍 Location: Rising Storm Brewing (1880 Blossom Road Rochester\, NY 14625) \nCome join your fellow Roc City Rotary Members for good trivia and good times! \nRegister here!
URL:https://www.roccityrotary.org/event/pub-trivia-at-rising-storm-brewing/
ATTACH;FMTTYPE=image/png:https://www.roccityrotary.org/wp-content/uploads/2025/09/September-Social.png
END:VEVENT
END:VCALENDAR