BEGIN:VCALENDAR
VERSION:2.0
PRODID:-//Roc City Rotary - ECPv6.15.20//NONSGML v1.0//EN
CALSCALE:GREGORIAN
METHOD:PUBLISH
X-WR-CALNAME:Roc City Rotary
X-ORIGINAL-URL:https://www.roccityrotary.org
X-WR-CALDESC:Events for Roc City Rotary
REFRESH-INTERVAL;VALUE=DURATION:PT1H
X-Robots-Tag:noindex
X-PUBLISHED-TTL:PT1H
BEGIN:VTIMEZONE
TZID:UTC
BEGIN:STANDARD
TZOFFSETFROM:+0000
TZOFFSETTO:+0000
TZNAME:UTC
DTSTART:20240101T000000
END:STANDARD
END:VTIMEZONE
BEGIN:VEVENT
DTSTART;TZID=UTC:20251101T190000
DTEND;TZID=UTC:20251101T210000
DTSTAMP:20260425T172657
CREATED:20251017T193406Z
LAST-MODIFIED:20251017T193406Z
UID:908-1762023600-1762030800@www.roccityrotary.org
SUMMARY:Stars and Stripes Gala
DESCRIPTION:📅 Date: November 1\, 2025\n🕥 Time: 7:00 pm – 9:00 pm\n📍 Location: Joseph A. Floreano Rochester Riverside Convention Center (123 East Main Street Rochester\, NY 14604) \nJoin your fellow Roc City Rotary members to help greet esteemed guests\, silent auction and cash call for this amazing event! \nRegister here
URL:https://www.roccityrotary.org/event/stars-and-stripes-gala/
ATTACH;FMTTYPE=image/png:https://www.roccityrotary.org/wp-content/uploads/2025/10/stars-and-stripes.png
END:VEVENT
BEGIN:VEVENT
DTSTART;TZID=UTC:20251112T180000
DTEND;TZID=UTC:20251112T200000
DTSTAMP:20260425T172657
CREATED:20251021T010419Z
LAST-MODIFIED:20251021T010419Z
UID:911-1762970400-1762977600@www.roccityrotary.org
SUMMARY:Sager-Stoneyard Bingo Night
DESCRIPTION:📅 Date: November 12\, 2025\n🕥 Time: 6:00 pm – 8:00 pm\n📍 Location: Sager-Stoneyard (46 Sager Drive #Suite E Rochester\, NY 14607) \nJoin Roc City Rotary for a fun night of Bingo! \nRegister here
URL:https://www.roccityrotary.org/event/sager-stoneyard-bingo-night/
ATTACH;FMTTYPE=image/png:https://www.roccityrotary.org/wp-content/uploads/2025/10/November-Social.png
END:VEVENT
BEGIN:VEVENT
DTSTART;TZID=UTC:20251118T180000
DTEND;TZID=UTC:20251118T193000
DTSTAMP:20260425T172657
CREATED:20250724T141946Z
LAST-MODIFIED:20250724T141946Z
UID:839-1763488800-1763494200@www.roccityrotary.org
SUMMARY:November 2025 Club Meeting
DESCRIPTION:📅 Date: November 18\, 2025\n🕥 Time: 6:00 pm – 7:30 pm\n📍 Location: Three Heads Brewing (186 Atlantic Ave\, Rochester\, NY 14607) \nJoin Roc City Rotary for our monthly club meeting at Three Heads Brewing in Downtown Rochester. Join us every third Tuesday of the month for some Good old-fashioned bonding! (Icebreaker anyone?) Great programs and speakers! (Suggestions welcome!) Events scoop! (Volunteering\, Socials\, we cover it all!) Why we love Rochester! (We really do!) \nHappy Half Hour: 6:00pm\, meeting to follow. \nRegister here
URL:https://www.roccityrotary.org/event/november-2025-club-meeting/
ATTACH;FMTTYPE=image/png:https://www.roccityrotary.org/wp-content/uploads/2024/09/Meeting-Invite.png
END:VEVENT
END:VCALENDAR