BEGIN:VCALENDAR
VERSION:2.0
PRODID:-//Roc City Rotary - ECPv6.15.20//NONSGML v1.0//EN
CALSCALE:GREGORIAN
METHOD:PUBLISH
X-WR-CALNAME:Roc City Rotary
X-ORIGINAL-URL:https://www.roccityrotary.org
X-WR-CALDESC:Events for Roc City Rotary
REFRESH-INTERVAL;VALUE=DURATION:PT1H
X-Robots-Tag:noindex
X-PUBLISHED-TTL:PT1H
BEGIN:VTIMEZONE
TZID:UTC
BEGIN:STANDARD
TZOFFSETFROM:+0000
TZOFFSETTO:+0000
TZNAME:UTC
DTSTART:20250101T000000
END:STANDARD
END:VTIMEZONE
BEGIN:VEVENT
DTSTART;TZID=UTC:20260103T110000
DTEND;TZID=UTC:20260103T130000
DTSTAMP:20260425T144151
CREATED:20251216T174417Z
LAST-MODIFIED:20251216T174417Z
UID:954-1767438000-1767445200@www.roccityrotary.org
SUMMARY:Isaiah House Christmas Undecorating
DESCRIPTION:📅 Date: January 3\, 2026\n🕥 Time: 11:00am – 1:00pm\n📍 Location: Isaiah House (1005 East Ave) \nPlease join us as we return to the Isaiah House to undecorate from Christmas and clean up after the holidays. The Isaiah House was so grateful for our help decorating and I know that undecorating will be a big help to them\, too. Many hands make light work! \nRegister here
URL:https://www.roccityrotary.org/event/isaiah-house-christmas-undecorating/
ATTACH;FMTTYPE=image/png:https://www.roccityrotary.org/wp-content/uploads/2025/12/jan-service.png
END:VEVENT
BEGIN:VEVENT
DTSTART;TZID=UTC:20260120T180000
DTEND;TZID=UTC:20260120T193000
DTSTAMP:20260425T144151
CREATED:20250724T142143Z
LAST-MODIFIED:20250724T142143Z
UID:843-1768932000-1768937400@www.roccityrotary.org
SUMMARY:January 2026 Club Meeting
DESCRIPTION:📅 Date: January 20 2025\n🕥 Time: 6:00 pm – 7:30 pm\n📍 Location: Three Heads Brewing (186 Atlantic Ave\, Rochester\, NY 14607) \nJoin Roc City Rotary for our monthly club meeting at Three Heads Brewing in Downtown Rochester. Join us every third Tuesday of the month for some Good old-fashioned bonding! (Icebreaker anyone?) Great programs and speakers! (Suggestions welcome!) Events scoop! (Volunteering\, Socials\, we cover it all!) Why we love Rochester! (We really do!) \nHappy Half Hour: 6:00pm\, meeting to follow. \nRegister here
URL:https://www.roccityrotary.org/event/january-2026-club-meeting/
ATTACH;FMTTYPE=image/png:https://www.roccityrotary.org/wp-content/uploads/2024/09/Meeting-Invite.png
END:VEVENT
BEGIN:VEVENT
DTSTART;TZID=UTC:20260130T180000
DTEND;TZID=UTC:20260130T200000
DTSTAMP:20260425T144151
CREATED:20251212T154321Z
LAST-MODIFIED:20260114T024722Z
UID:944-1769796000-1769803200@www.roccityrotary.org
SUMMARY:Greystone Tubing
DESCRIPTION:📅 Date: January 30\, 2026\n🕥 Time: 6:00 pm – 8:00 pm\n📍 Location: Gerystone Tubing (1400 Atlantic Ave\, Walworth\, NY 14568) \n\n\n\nCome join your fellow Rotarians as we take on the 1000-plus feet of tubing adventures at Greystone! Don’t worry\, you will be pulled up the hill! Stoney’s Pub is at the bottom of the hill so we can gather to warm up after tubing! Cost is $29 per person for tubing – please make a reservation on the Greystone website for January 30th at 6pm: https://www.greystonetubing.com/\n\n\nRegister here
URL:https://www.roccityrotary.org/event/greystone-tubing/
ATTACH;FMTTYPE=image/png:https://www.roccityrotary.org/wp-content/uploads/2025/12/jan-social.png
END:VEVENT
END:VCALENDAR